BEGIN:VCALENDAR
VERSION:2.0
PRODID:-//Martinikerk Bolsward - ECPv6.15.20//NONSGML v1.0//EN
CALSCALE:GREGORIAN
METHOD:PUBLISH
X-WR-CALNAME:Martinikerk Bolsward
X-ORIGINAL-URL:https://gemeente.martinikerkbolsward.nl
X-WR-CALDESC:Evenementen voor Martinikerk Bolsward
REFRESH-INTERVAL;VALUE=DURATION:PT1H
X-Robots-Tag:noindex
X-PUBLISHED-TTL:PT1H
BEGIN:VTIMEZONE
TZID:Europe/Amsterdam
BEGIN:DAYLIGHT
TZOFFSETFROM:+0100
TZOFFSETTO:+0200
TZNAME:CEST
DTSTART:20250330T010000
END:DAYLIGHT
BEGIN:STANDARD
TZOFFSETFROM:+0200
TZOFFSETTO:+0100
TZNAME:CET
DTSTART:20251026T010000
END:STANDARD
BEGIN:DAYLIGHT
TZOFFSETFROM:+0100
TZOFFSETTO:+0200
TZNAME:CEST
DTSTART:20260329T010000
END:DAYLIGHT
BEGIN:STANDARD
TZOFFSETFROM:+0200
TZOFFSETTO:+0100
TZNAME:CET
DTSTART:20261025T010000
END:STANDARD
BEGIN:DAYLIGHT
TZOFFSETFROM:+0100
TZOFFSETTO:+0200
TZNAME:CEST
DTSTART:20270328T010000
END:DAYLIGHT
BEGIN:STANDARD
TZOFFSETFROM:+0200
TZOFFSETTO:+0100
TZNAME:CET
DTSTART:20271031T010000
END:STANDARD
END:VTIMEZONE
BEGIN:VEVENT
DTSTART;TZID=Europe/Amsterdam:20260411T153000
DTEND;TZID=Europe/Amsterdam:20260411T173000
DTSTAMP:20260420T222954
CREATED:20260313T153310Z
LAST-MODIFIED:20260313T153310Z
UID:3529-1775921400-1775928600@gemeente.martinikerkbolsward.nl
SUMMARY:Zangmiddag Kwartettekoar
DESCRIPTION:Zaterdag 11 april om 15:30 t/m 17:30 uur\nLocatie: Martinikerk\n—\nO.l.v. Feike van Tuinen\nGratis toegang\, collecte bij de uitgang
URL:https://gemeente.martinikerkbolsward.nl/activiteit/zangmiddag-kwartettekoar/
LOCATION:Martinikerk\, Groot Kerkhof 26\, Bolsward\, Friesland\, 8701 HG\, Netherlands
CATEGORIES:Concerten
ATTACH;FMTTYPE=image/jpeg:https://gemeente.martinikerkbolsward.nl/wp-content/uploads/2026/03/Zangmiddag-Kwartettekoar-11-april-2026.jpg
END:VEVENT
BEGIN:VEVENT
DTSTART;TZID=Europe/Amsterdam:20260412T093000
DTEND;TZID=Europe/Amsterdam:20260412T093000
DTSTAMP:20260420T222954
CREATED:20260407T080947Z
LAST-MODIFIED:20260407T095342Z
UID:3550-1775986200-1775986200@gemeente.martinikerkbolsward.nl
SUMMARY:2e zondag van Pasen
DESCRIPTION:Zondag 12 april om 09:30 uur\nVoorganger: Ds. Teunard van der Linden\nu) D. UMCG
URL:https://gemeente.martinikerkbolsward.nl/activiteit/2e-zondag-van-pasen/
LOCATION:Martinikerk\, Groot Kerkhof 26\, Bolsward\, Friesland\, 8701 HG\, Netherlands
CATEGORIES:Kerkdiensten
END:VEVENT
BEGIN:VEVENT
DTSTART;TZID=Europe/Amsterdam:20260414T180000
DTEND;TZID=Europe/Amsterdam:20260414T180000
DTSTAMP:20260420T222954
CREATED:20260106T145315Z
LAST-MODIFIED:20260106T145315Z
UID:3228-1776189600-1776189600@gemeente.martinikerkbolsward.nl
SUMMARY:Gast aan tafel
DESCRIPTION:Dinsdag 14 april om 18:00 uur (inloop vanaf 17:45 uur)\nLocatie: Het Keerpunt\, Burg. Praamsmalaan 35
URL:https://gemeente.martinikerkbolsward.nl/activiteit/gast-aan-tafel-4/
LOCATION:Het Keerpunt\, Burgemeester Praamsmalaan 35\, Bolsward\, Friesland\, 8701 AP\, Netherlands
CATEGORIES:Activiteiten
END:VEVENT
BEGIN:VEVENT
DTSTART;TZID=Europe/Amsterdam:20260415T094500
DTEND;TZID=Europe/Amsterdam:20260415T110000
DTSTAMP:20260420T222954
CREATED:20260220T102756Z
LAST-MODIFIED:20260220T102756Z
UID:3427-1776246300-1776250800@gemeente.martinikerkbolsward.nl
SUMMARY:Koffie met nootjes
DESCRIPTION:Elke woensdag om 09:45 t/m 11:00 uur\nLocatie: Martinikerk
URL:https://gemeente.martinikerkbolsward.nl/activiteit/koffie-met-nootjes-8/
LOCATION:Martinikerk\, Groot Kerkhof 26\, Bolsward\, Friesland\, 8701 HG\, Netherlands
CATEGORIES:Activiteiten
END:VEVENT
BEGIN:VEVENT
DTSTART;TZID=Europe/Amsterdam:20260416T133000
DTEND;TZID=Europe/Amsterdam:20260416T143000
DTSTAMP:20260420T222954
CREATED:20260220T102517Z
LAST-MODIFIED:20260220T102517Z
UID:3419-1776346200-1776349800@gemeente.martinikerkbolsward.nl
SUMMARY:Meelezen met de dominee
DESCRIPTION:Elke donderdag om 13:30 t/m 14:30 uur\nLocatie: Martinikerk
URL:https://gemeente.martinikerkbolsward.nl/activiteit/meelezen-met-de-dominee-8/
LOCATION:Martinikerk\, Groot Kerkhof 26\, Bolsward\, Friesland\, 8701 HG\, Netherlands
CATEGORIES:Activiteiten
END:VEVENT
BEGIN:VEVENT
DTSTART;TZID=Europe/Amsterdam:20260417T150000
DTEND;TZID=Europe/Amsterdam:20260417T163000
DTSTAMP:20260420T222954
CREATED:20260220T103437Z
LAST-MODIFIED:20260407T102701Z
UID:3437-1776438000-1776443400@gemeente.martinikerkbolsward.nl
SUMMARY:Martini Soos
DESCRIPTION:Vrijdag 17 april van 15:00 t/m 16:30 uur\nThema: Afscheid nemen\nLocatie: Convent
URL:https://gemeente.martinikerkbolsward.nl/activiteit/martini-soos-3/
LOCATION:Convent\, Groot Kerkhof 1a\, Bolsward\, 8701 HG\, Netherlands
CATEGORIES:Activiteiten
END:VEVENT
BEGIN:VEVENT
DTSTART;TZID=Europe/Amsterdam:20260419T093000
DTEND;TZID=Europe/Amsterdam:20260419T093000
DTSTAMP:20260420T222954
CREATED:20260407T081231Z
LAST-MODIFIED:20260407T081231Z
UID:3552-1776591000-1776591000@gemeente.martinikerkbolsward.nl
SUMMARY:3e zondag van Pasen
DESCRIPTION:Zondag 19 april om 09:30 uur\nVoorganger: Ds. Theo Menting\nEr is Kinder- en Tienernevendienst\n—\nM.m.v.: Martinicantorij (Jubileumviering)\nu) K. Stuc- en schilderwerk kerkgebouw
URL:https://gemeente.martinikerkbolsward.nl/activiteit/3e-zondag-van-pasen/
LOCATION:Martinikerk\, Groot Kerkhof 26\, Bolsward\, Friesland\, 8701 HG\, Netherlands
CATEGORIES:Kerkdiensten
END:VEVENT
BEGIN:VEVENT
DTSTART;TZID=Europe/Amsterdam:20260421T193000
DTEND;TZID=Europe/Amsterdam:20260421T213000
DTSTAMP:20260420T222954
CREATED:20250905T144007Z
LAST-MODIFIED:20250905T144007Z
UID:2628-1776799800-1776807000@gemeente.martinikerkbolsward.nl
SUMMARY:Wat staat geschreven – Exodus
DESCRIPTION:Dinsdag 21 april om 19:30 t/m 21:30 uur\nLocatie: Convent\nBegeleiding en opgave: Ds. Theo Menting
URL:https://gemeente.martinikerkbolsward.nl/activiteit/wat-staat-geschreven-exodus-7/
LOCATION:Convent\, Groot Kerkhof 1a\, Bolsward\, 8701 HG\, Netherlands
CATEGORIES:Activiteiten
END:VEVENT
BEGIN:VEVENT
DTSTART;TZID=Europe/Amsterdam:20260422T094500
DTEND;TZID=Europe/Amsterdam:20260422T110000
DTSTAMP:20260420T222954
CREATED:20260220T102823Z
LAST-MODIFIED:20260220T102823Z
UID:3429-1776851100-1776855600@gemeente.martinikerkbolsward.nl
SUMMARY:Koffie met nootjes
DESCRIPTION:Elke woensdag om 09:45 t/m 11:00 uur\nLocatie: Martinikerk
URL:https://gemeente.martinikerkbolsward.nl/activiteit/koffie-met-nootjes-9/
LOCATION:Martinikerk\, Groot Kerkhof 26\, Bolsward\, Friesland\, 8701 HG\, Netherlands
CATEGORIES:Activiteiten
END:VEVENT
BEGIN:VEVENT
DTSTART;TZID=Europe/Amsterdam:20260423T133000
DTEND;TZID=Europe/Amsterdam:20260423T143000
DTSTAMP:20260420T222954
CREATED:20260220T102544Z
LAST-MODIFIED:20260220T102544Z
UID:3421-1776951000-1776954600@gemeente.martinikerkbolsward.nl
SUMMARY:Meelezen met de dominee
DESCRIPTION:Elke donderdag om 13:30 t/m 14:30 uur\nLocatie: Martinikerk
URL:https://gemeente.martinikerkbolsward.nl/activiteit/meelezen-met-de-dominee-9/
LOCATION:Martinikerk\, Groot Kerkhof 26\, Bolsward\, Friesland\, 8701 HG\, Netherlands
CATEGORIES:Activiteiten
END:VEVENT
BEGIN:VEVENT
DTSTART;TZID=Europe/Amsterdam:20260426T093000
DTEND;TZID=Europe/Amsterdam:20260426T093000
DTSTAMP:20260420T222954
CREATED:20260407T081410Z
LAST-MODIFIED:20260407T081410Z
UID:3554-1777195800-1777195800@gemeente.martinikerkbolsward.nl
SUMMARY:4e zondag van Pasen
DESCRIPTION:Zondag 26 april om 09:30 uur\nVoorganger: Ds. Gerrit de Haan\nu) K. Stuc- en schilderwerk kerkgebouw
URL:https://gemeente.martinikerkbolsward.nl/activiteit/4e-zondag-van-pasen/
LOCATION:Martinikerk\, Groot Kerkhof 26\, Bolsward\, Friesland\, 8701 HG\, Netherlands
CATEGORIES:Kerkdiensten
END:VEVENT
BEGIN:VEVENT
DTSTART;TZID=Europe/Amsterdam:20260429T094500
DTEND;TZID=Europe/Amsterdam:20260429T110000
DTSTAMP:20260420T222954
CREATED:20260220T102848Z
LAST-MODIFIED:20260220T102848Z
UID:3431-1777455900-1777460400@gemeente.martinikerkbolsward.nl
SUMMARY:Koffie met nootjes
DESCRIPTION:Elke woensdag om 09:45 t/m 11:00 uur\nLocatie: Martinikerk
URL:https://gemeente.martinikerkbolsward.nl/activiteit/koffie-met-nootjes-10/
LOCATION:Martinikerk\, Groot Kerkhof 26\, Bolsward\, Friesland\, 8701 HG\, Netherlands
CATEGORIES:Activiteiten
END:VEVENT
BEGIN:VEVENT
DTSTART;TZID=Europe/Amsterdam:20260430T133000
DTEND;TZID=Europe/Amsterdam:20260430T143000
DTSTAMP:20260420T222954
CREATED:20260220T102615Z
LAST-MODIFIED:20260220T102615Z
UID:3423-1777555800-1777559400@gemeente.martinikerkbolsward.nl
SUMMARY:Meelezen met de dominee
DESCRIPTION:Elke donderdag om 13:30 t/m 14:30 uur\nLocatie: Martinikerk
URL:https://gemeente.martinikerkbolsward.nl/activiteit/meelezen-met-de-dominee-10/
LOCATION:Martinikerk\, Groot Kerkhof 26\, Bolsward\, Friesland\, 8701 HG\, Netherlands
CATEGORIES:Activiteiten
END:VEVENT
BEGIN:VEVENT
DTSTART;TZID=Europe/Amsterdam:20260503T093000
DTEND;TZID=Europe/Amsterdam:20260503T093000
DTSTAMP:20260420T222954
CREATED:20260407T081624Z
LAST-MODIFIED:20260407T081624Z
UID:3556-1777800600-1777800600@gemeente.martinikerkbolsward.nl
SUMMARY:5e zondag van Pasen
DESCRIPTION:Zondag 3 mei om 09:30 uur\nVoorganger: Ds. Theo Menting\nEr is Kindernevendienst\nu) D. Noodhulp Myanmar
URL:https://gemeente.martinikerkbolsward.nl/activiteit/5e-zondag-van-pasen/
LOCATION:Martinikerk\, Groot Kerkhof 26\, Bolsward\, Friesland\, 8701 HG\, Netherlands
CATEGORIES:Kerkdiensten
END:VEVENT
BEGIN:VEVENT
DTSTART;TZID=Europe/Amsterdam:20260506T094500
DTEND;TZID=Europe/Amsterdam:20260506T110000
DTSTAMP:20260420T222954
CREATED:20260220T102915Z
LAST-MODIFIED:20260220T102915Z
UID:3433-1778060700-1778065200@gemeente.martinikerkbolsward.nl
SUMMARY:Koffie met nootjes
DESCRIPTION:Elke woensdag om 09:45 t/m 11:00 uur\nLocatie: Martinikerk
URL:https://gemeente.martinikerkbolsward.nl/activiteit/koffie-met-nootjes-11/
LOCATION:Martinikerk\, Groot Kerkhof 26\, Bolsward\, Friesland\, 8701 HG\, Netherlands
CATEGORIES:Activiteiten
END:VEVENT
BEGIN:VEVENT
DTSTART;TZID=Europe/Amsterdam:20260507T133000
DTEND;TZID=Europe/Amsterdam:20260507T143000
DTSTAMP:20260420T222954
CREATED:20260220T102640Z
LAST-MODIFIED:20260220T102640Z
UID:3425-1778160600-1778164200@gemeente.martinikerkbolsward.nl
SUMMARY:Meelezen met de dominee
DESCRIPTION:Elke donderdag om 13:30 t/m 14:30 uur\nLocatie: Martinikerk
URL:https://gemeente.martinikerkbolsward.nl/activiteit/meelezen-met-de-dominee-11/
LOCATION:Martinikerk\, Groot Kerkhof 26\, Bolsward\, Friesland\, 8701 HG\, Netherlands
CATEGORIES:Activiteiten
END:VEVENT
BEGIN:VEVENT
DTSTART;TZID=Europe/Amsterdam:20260508T150000
DTEND;TZID=Europe/Amsterdam:20260508T163000
DTSTAMP:20260420T222954
CREATED:20260220T103518Z
LAST-MODIFIED:20260407T102639Z
UID:3439-1778252400-1778257800@gemeente.martinikerkbolsward.nl
SUMMARY:Martini Soos
DESCRIPTION:Vrijdag 8 mei van 15:00 t/m 16:30 uur\nThema: Levenskracht\nLocatie: Convent
URL:https://gemeente.martinikerkbolsward.nl/activiteit/martini-soos-4/
LOCATION:Convent\, Groot Kerkhof 1a\, Bolsward\, 8701 HG\, Netherlands
CATEGORIES:Activiteiten
END:VEVENT
BEGIN:VEVENT
DTSTART;TZID=Europe/Amsterdam:20260512T180000
DTEND;TZID=Europe/Amsterdam:20260512T180000
DTSTAMP:20260420T222954
CREATED:20260324T134441Z
LAST-MODIFIED:20260324T134441Z
UID:3535-1778608800-1778608800@gemeente.martinikerkbolsward.nl
SUMMARY:Gast aan tafel
DESCRIPTION:Dinsdag 12 mei om 18:00 uur (inloop vanaf 17:45 uur)\nLocatie: Gasthuiskerk\, Gasthuissingel 33
URL:https://gemeente.martinikerkbolsward.nl/activiteit/gast-aan-tafel/
LOCATION:Gasthuiskerk/Het Centrum\, Gasthuissingel 33\, Bolsward\, Friesland\, 8701 BL\, Netherlands
CATEGORIES:Activiteiten
END:VEVENT
BEGIN:VEVENT
DTSTART;TZID=Europe/Amsterdam:20260522T200000
DTEND;TZID=Europe/Amsterdam:20260522T200000
DTSTAMP:20260420T222954
CREATED:20260213T120129Z
LAST-MODIFIED:20260213T120129Z
UID:3366-1779480000-1779480000@gemeente.martinikerkbolsward.nl
SUMMARY:Pinksterconcert 3 koren
DESCRIPTION:Vrijdag 22 mei om 20:00 uur\nLocatie: Martinikerk\nKaartverkoop bij de entree à € 10\,00 (€ 25\,00 per gezin)\nKinderen tot 12 jaar gratis
URL:https://gemeente.martinikerkbolsward.nl/activiteit/pinksterconcert-3-koren/
LOCATION:Martinikerk\, Groot Kerkhof 26\, Bolsward\, Friesland\, 8701 HG\, Netherlands
CATEGORIES:Concerten
ATTACH;FMTTYPE=image/jpeg:https://gemeente.martinikerkbolsward.nl/wp-content/uploads/2026/02/Pinksterconcert-3-koren-22-mei-2026.jpg
END:VEVENT
BEGIN:VEVENT
DTSTART;TZID=Europe/Amsterdam:20260529T150000
DTEND;TZID=Europe/Amsterdam:20260529T163000
DTSTAMP:20260420T222954
CREATED:20260220T103604Z
LAST-MODIFIED:20260220T103604Z
UID:3441-1780066800-1780072200@gemeente.martinikerkbolsward.nl
SUMMARY:Martini Soos
DESCRIPTION:Vrijdag 29 mei van 15:00 t/m 16:30 uur\nThema:\nLocatie: Convent
URL:https://gemeente.martinikerkbolsward.nl/activiteit/martini-soos-5/
LOCATION:Convent\, Groot Kerkhof 1a\, Bolsward\, 8701 HG\, Netherlands
CATEGORIES:Activiteiten
END:VEVENT
BEGIN:VEVENT
DTSTART;TZID=Europe/Amsterdam:20260609T180000
DTEND;TZID=Europe/Amsterdam:20260609T180000
DTSTAMP:20260420T222954
CREATED:20260324T134523Z
LAST-MODIFIED:20260324T134523Z
UID:3537-1781028000-1781028000@gemeente.martinikerkbolsward.nl
SUMMARY:Gast aan tafel
DESCRIPTION:Dinsdag 9 juni om 18:00 uur (inloop vanaf 17:45 uur)\nLocatie: Convent
URL:https://gemeente.martinikerkbolsward.nl/activiteit/gast-aan-tafel-2/
LOCATION:Convent\, Groot Kerkhof 1a\, Bolsward\, 8701 HG\, Netherlands
CATEGORIES:Activiteiten
END:VEVENT
BEGIN:VEVENT
DTSTART;TZID=Europe/Amsterdam:20260619T150000
DTEND;TZID=Europe/Amsterdam:20260619T163000
DTSTAMP:20260420T222954
CREATED:20260220T103712Z
LAST-MODIFIED:20260220T103712Z
UID:3443-1781881200-1781886600@gemeente.martinikerkbolsward.nl
SUMMARY:Martini Soos
DESCRIPTION:Vrijdag 19 juni van 15:00 t/m 16:30 uur\nThema:\nLocatie: Convent
URL:https://gemeente.martinikerkbolsward.nl/activiteit/martini-soos-6/
LOCATION:Convent\, Groot Kerkhof 1a\, Bolsward\, 8701 HG\, Netherlands
CATEGORIES:Activiteiten
END:VEVENT
BEGIN:VEVENT
DTSTART;VALUE=DATE:20260710
DTEND;VALUE=DATE:20260711
DTSTAMP:20260420T222954
CREATED:20260220T103945Z
LAST-MODIFIED:20260220T103950Z
UID:3445-1783641600-1783727999@gemeente.martinikerkbolsward.nl
SUMMARY:Martini Soos uitje
DESCRIPTION:Vrijdag 10 juli\nUitje ter afsluiting van het seizoen\nLocatie: Wordt nog bekendgemaakt
URL:https://gemeente.martinikerkbolsward.nl/activiteit/martini-soos-7/
CATEGORIES:Activiteiten
END:VEVENT
BEGIN:VEVENT
DTSTART;VALUE=DATE:20260905
DTEND;VALUE=DATE:20260906
DTSTAMP:20260420T222954
CREATED:20260407T102430Z
LAST-MODIFIED:20260407T102430Z
UID:3560-1788566400-1788652799@gemeente.martinikerkbolsward.nl
SUMMARY:Fancy Fair
DESCRIPTION:Zaterdag 5 september\nNadere informatie volgt
URL:https://gemeente.martinikerkbolsward.nl/activiteit/fancy-fair/
CATEGORIES:Activiteiten
END:VEVENT
END:VCALENDAR